BEGIN:VCALENDAR
VERSION:2.0
PRODID:-//Northern Nevada SME - ECPv6.15.20//NONSGML v1.0//EN
CALSCALE:GREGORIAN
METHOD:PUBLISH
X-WR-CALNAME:Northern Nevada SME
X-ORIGINAL-URL:https://nnevsme.com
X-WR-CALDESC:Events for Northern Nevada SME
REFRESH-INTERVAL;VALUE=DURATION:PT1H
X-Robots-Tag:noindex
X-PUBLISHED-TTL:PT1H
BEGIN:VTIMEZONE
TZID:America/Los_Angeles
BEGIN:DAYLIGHT
TZOFFSETFROM:-0800
TZOFFSETTO:-0700
TZNAME:PDT
DTSTART:20240310T100000
END:DAYLIGHT
BEGIN:STANDARD
TZOFFSETFROM:-0700
TZOFFSETTO:-0800
TZNAME:PST
DTSTART:20241103T090000
END:STANDARD
BEGIN:DAYLIGHT
TZOFFSETFROM:-0800
TZOFFSETTO:-0700
TZNAME:PDT
DTSTART:20250309T100000
END:DAYLIGHT
BEGIN:STANDARD
TZOFFSETFROM:-0700
TZOFFSETTO:-0800
TZNAME:PST
DTSTART:20251102T090000
END:STANDARD
BEGIN:DAYLIGHT
TZOFFSETFROM:-0800
TZOFFSETTO:-0700
TZNAME:PDT
DTSTART:20260308T100000
END:DAYLIGHT
BEGIN:STANDARD
TZOFFSETFROM:-0700
TZOFFSETTO:-0800
TZNAME:PST
DTSTART:20261101T090000
END:STANDARD
END:VTIMEZONE
BEGIN:VEVENT
DTSTART;VALUE=DATE:20251207
DTEND;VALUE=DATE:20251213
DTSTAMP:20260419T072618
CREATED:20250822T210454Z
LAST-MODIFIED:20250822T210717Z
UID:10000017-1765065600-1765583999@nnevsme.com
SUMMARY:AEMA Annual Meeting
DESCRIPTION:For more info visit: https://www.miningamerica.org/annualmeeting \nLocation: Sparks\, NV
URL:https://nnevsme.com/event/aema-annual-meeting/
CATEGORIES:Industry Events
ATTACH;FMTTYPE=image/jpeg:https://nnevsme.com/wp-content/uploads/AEMA-Annual-Meeting.jpg
END:VEVENT
BEGIN:VEVENT
DTSTART;TZID=America/Los_Angeles:20251215T180000
DTEND;TZID=America/Los_Angeles:20251215T210000
DTSTAMP:20260419T072618
CREATED:20250822T200652Z
LAST-MODIFIED:20251113T021618Z
UID:10000008-1765821600-1765832400@nnevsme.com
SUMMARY:Northern NV SME Monthly Meeting - December Christmas Party
DESCRIPTION:No presentation.
URL:https://nnevsme.com/event/northern-nv-sme-monthly-meeting-december/
LOCATION:Circus Circus\, 500 N Sierra St\, Reno\, NV\, 89503\, United States
CATEGORIES:Monthly Meetings
ATTACH;FMTTYPE=image/jpeg:https://nnevsme.com/wp-content/uploads/NNVSME-Event-Image-bg.jpg
ORGANIZER;CN="Nothern NV SME":MAILTO:nnevsme@gmail.com
END:VEVENT
END:VCALENDAR