BEGIN:VCALENDAR
VERSION:2.0
PRODID:-//Northern Nevada SME - ECPv6.15.20//NONSGML v1.0//EN
CALSCALE:GREGORIAN
METHOD:PUBLISH
X-ORIGINAL-URL:https://nnevsme.com
X-WR-CALDESC:Events for Northern Nevada SME
REFRESH-INTERVAL;VALUE=DURATION:PT1H
X-Robots-Tag:noindex
X-PUBLISHED-TTL:PT1H
BEGIN:VTIMEZONE
TZID:America/Los_Angeles
BEGIN:DAYLIGHT
TZOFFSETFROM:-0800
TZOFFSETTO:-0700
TZNAME:PDT
DTSTART:20240310T100000
END:DAYLIGHT
BEGIN:STANDARD
TZOFFSETFROM:-0700
TZOFFSETTO:-0800
TZNAME:PST
DTSTART:20241103T090000
END:STANDARD
BEGIN:DAYLIGHT
TZOFFSETFROM:-0800
TZOFFSETTO:-0700
TZNAME:PDT
DTSTART:20250309T100000
END:DAYLIGHT
BEGIN:STANDARD
TZOFFSETFROM:-0700
TZOFFSETTO:-0800
TZNAME:PST
DTSTART:20251102T090000
END:STANDARD
BEGIN:DAYLIGHT
TZOFFSETFROM:-0800
TZOFFSETTO:-0700
TZNAME:PDT
DTSTART:20260308T100000
END:DAYLIGHT
BEGIN:STANDARD
TZOFFSETFROM:-0700
TZOFFSETTO:-0800
TZNAME:PST
DTSTART:20261101T090000
END:STANDARD
END:VTIMEZONE
BEGIN:VEVENT
DTSTART;TZID=America/Los_Angeles:20251117T180000
DTEND;TZID=America/Los_Angeles:20251117T210000
DTSTAMP:20260419T101946
CREATED:20250822T200244Z
LAST-MODIFIED:20251028T010834Z
UID:10000007-1763402400-1763413200@nnevsme.com
SUMMARY:Northern NV SME Monthly Meeting - November
DESCRIPTION:Speaker: Ed Macha \n \nEd Macha is the founder and CEO of Reliable Controls Corporation\, a Salt Lake City-based firm specializing in commissioning\, start-up\, and process controls for large-scale industrial facilities. With more than 30 years of experience in metal and mineral processing\, oil and gas\, and other heavy industries\, Ed has built a reputation for turning complex systems into reliable\, high-performing operations. \nUnder his leadership\, Reliable Controls has become a trusted partner to major owners and EPC firms\, ensuring systems are brought online safely\, efficiently\, and to specification. His perspective is shaped by decades in the field\, where reliability\, readiness\, and disciplined execution define success \n\nTopic: Building Mines That Start Right the First Time\nCommissioning as a Design Philosophy\, Not a Phase \n\nThis session explores how integrating commissioning early in project design transforms mechanical completion into true operational readiness. Ed will share insights from over 15 megaprojects on how a commissioning-focused approach drives efficiency\, reduces rework\, and ensures mines start right the first time.
URL:https://nnevsme.com/event/northern-nv-sme-monthly-meeting-november/
LOCATION:Circus Circus\, 500 N Sierra St\, Reno\, NV\, 89503\, United States
CATEGORIES:Monthly Meetings
ATTACH;FMTTYPE=image/jpeg:https://nnevsme.com/wp-content/uploads/NNVSME-Event-Image-bg.jpg
ORGANIZER;CN="Nothern NV SME":MAILTO:nnevsme@gmail.com
END:VEVENT
END:VCALENDAR