BEGIN:VCALENDAR
VERSION:2.0
PRODID:-//Northern Nevada SME - ECPv6.15.20//NONSGML v1.0//EN
CALSCALE:GREGORIAN
METHOD:PUBLISH
X-WR-CALNAME:Northern Nevada SME
X-ORIGINAL-URL:https://nnevsme.com
X-WR-CALDESC:Events for Northern Nevada SME
REFRESH-INTERVAL;VALUE=DURATION:PT1H
X-Robots-Tag:noindex
X-PUBLISHED-TTL:PT1H
BEGIN:VTIMEZONE
TZID:America/Los_Angeles
BEGIN:DAYLIGHT
TZOFFSETFROM:-0800
TZOFFSETTO:-0700
TZNAME:PDT
DTSTART:20240310T100000
END:DAYLIGHT
BEGIN:STANDARD
TZOFFSETFROM:-0700
TZOFFSETTO:-0800
TZNAME:PST
DTSTART:20241103T090000
END:STANDARD
BEGIN:DAYLIGHT
TZOFFSETFROM:-0800
TZOFFSETTO:-0700
TZNAME:PDT
DTSTART:20250309T100000
END:DAYLIGHT
BEGIN:STANDARD
TZOFFSETFROM:-0700
TZOFFSETTO:-0800
TZNAME:PST
DTSTART:20251102T090000
END:STANDARD
BEGIN:DAYLIGHT
TZOFFSETFROM:-0800
TZOFFSETTO:-0700
TZNAME:PDT
DTSTART:20260308T100000
END:DAYLIGHT
BEGIN:STANDARD
TZOFFSETFROM:-0700
TZOFFSETTO:-0800
TZNAME:PST
DTSTART:20261101T090000
END:STANDARD
END:VTIMEZONE
BEGIN:VEVENT
DTSTART;VALUE=DATE:20251019
DTEND;VALUE=DATE:20251022
DTSTAMP:20260419T115626
CREATED:20250822T210319Z
LAST-MODIFIED:20250825T184254Z
UID:10000016-1760832000-1761091199@nnevsme.com
SUMMARY:Heap Leach Solutions 2025
DESCRIPTION:For more info visit: https://www.heapleachsolutions.ca/ \nLocation: Sparks\, NV
URL:https://nnevsme.com/event/heap-leach-solutions-205/
CATEGORIES:Industry Events
ATTACH;FMTTYPE=image/jpeg:https://nnevsme.com/wp-content/uploads/Heap-Leach-Solutions-205.jpg
END:VEVENT
END:VCALENDAR